BEGIN:VCALENDAR
VERSION:2.0
METHOD:PUBLISH
PRODID:-//Agenda.ad//NONSGML v1.0//EN
BEGIN:VEVENT
CLASS:PUBLIC
UID:c4d7bdd83c4cad3eac467395413cc867@agenda.ad
DTSTAMP:20260419T190515Z
DTSTART:20260317T230000Z
DTEND:20260317T230000Z
SUMMARY:<h1 class="documentFirstHeading">Club de lectura: "L'arquitecte de somnis" de Teresa Roig</h1>
<div>&nbsp;</div>
<div id="viewlet-below-content-title">&nbsp;</div>
DESCRIPTION:\n\nMés informació\nhttps://www.agenda.ad/activitat/encamp
 /mes-cultura/club-de-lectura-l-arquitecte-de-somnis-de-teres
 a-roig- - \n
LOCATION:Biblioteca Comunal d'Encamp
SEQUENCE:0
TRANSP:OPAQUE
X-ALT-DESC;FMTTYPE=text/html:<!DOCTYPE HTML PUBLIC "-//W3C//DTD HTML 3.2//EN"><HTML><HEAD
 ><TITLE></TITLE></HEAD><BODY><FONT FACE="Arial" SIZE=2><br/>
 <br/><b>Més informació</b><br/><a href="https://www.agenda
 .ad/activitat/encamp/mes-cultura/club-de-lectura-l-arquitect
 e-de-somnis-de-teresa-roig- - ">https://www.agenda.ad/acti
 vitat/encamp/mes-cultura/club-de-lectura-l-arquitecte-de-som
 nis-de-teresa-roig- - </a><br/></FONT></BODY></HTML>
END:VEVENT
END:VCALENDAR